{"text_format":"3","workbook":"xlsx","n_sheets":2,"sheets":["Sheet1","Sheet2"],"not_rendered":{"external_links":1,"defined_names":1},"read":"whole","date_system":"1900"}

{"sheet":"Sheet1","index":0,"n_rows":43,"n_cols":12,"rows_kept":43,"merged":[[0,0,0,10],[1,0,1,10],[2,11,2,12],[3,1,7,1],[3,11,7,12],[8,11,8,12],[9,1,24,1],[9,11,24,12],[25,1,28,1],[25,11,28,12],[29,1,34,1],[29,11,34,12],[35,1,39,1],[35,11,39,12],[40,1,41,1],[40,11,41,12],[42,11,42,12],[43,0,43,10]]}
["用人单位吸纳外省脱贫人口（非协作地区）就业奖补花名册"]
[]
["序号","申请单位","姓名","性别","年龄","证件号码","劳动合同期限","是否在本单位参保","在本单位参保月数","是否脱贫人口（在全国脱贫人口系统查询）","年内是否申请过相关就业补贴","备注"]
[1,"广东天地壹号饮料销售有限公司","任*远","男",30,"411329*********158","2023-2-25至2026-2-28","是","6个月以上","是","否","5人申请一次性吸纳补贴，25000元；4人申请社保补贴，14087.28元；共39087.28元。"]
[2,null,"王*彬","男",34,"421087*********716","2023-8-4至2026-8-31","是","6个月以上","是","否"]
[3,null,"任*平","男",39,"431121*********030","2023-4-1至2026-3-31","是","6个月以上","是","否"]
[4,null,"葛*","男",35,"421202*********516","2023-4-26至2026-4-30","是","6个月以上","是","否"]
[5,null,"余*","男",30,"362425*********816","2023-4-8至2026-4-30","是","6个月以上","是","否"]
[6,"广东汉凯实业有限公司","向*元","男",55,"532127*********91X","2023-3-1至2025-11-14","是","6个月以上","是","否","5人申请一次性吸纳补贴，5000元；共5000元。"]
[7,"海目星(江门）激光智能装备有限公司","张*华",{"$f":"VLOOKUP(F:F,'[1]在职花名册汇总（以此表为准）'!$E:$AL,17,0)","v":"男"},{"$f":"VLOOKUP(F:F,'[1]在职花名册汇总（以此表为准）'!$E:$AL,25,0)","v":29},"431024*********116","2023-4-25至2026-4-24","是","6个月以上","是","否","16人申请一次性吸纳补贴，80000元；7人申请社保补贴，31279.64元；共111279.64元"]
[8,null,"伊*宇",{"$f":"VLOOKUP(F:F,'[1]在职花名册汇总（以此表为准）'!$E:$AL,17,0)","v":"男"},{"$f":"VLOOKUP(F:F,'[1]在职花名册汇总（以此表为准）'!$E:$AL,25,0)","v":32},"411421*********451","2023-2-10至2026-2-9","是","6个月以上","是","否"]
[9,null,"叶*明",{"$f":"VLOOKUP(F:F,'[1]在职花名册汇总（以此表为准）'!$E:$AL,17,0)","v":"男"},{"$f":"VLOOKUP(F:F,'[1]在职花名册汇总（以此表为准）'!$E:$AL,25,0)","v":34},"362421*********515","2023-5-11至2026-5-10","是","6个月以上","是","否"]
[10,null,"李*祥",{"$f":"VLOOKUP(F:F,'[1]在职花名册汇总（以此表为准）'!$E:$AL,17,0)","v":"男"},{"$f":"VLOOKUP(F:F,'[1]在职花名册汇总（以此表为准）'!$E:$AL,25,0)","v":30},"412724*********45X","2023-5-17至2026-5-16","是","6个月以上","是","否"]
[11,null,"胡*",{"$f":"VLOOKUP(F:F,'[1]在职花名册汇总（以此表为准）'!$E:$AL,17,0)","v":"男"},{"$f":"VLOOKUP(F:F,'[1]在职花名册汇总（以此表为准）'!$E:$AL,25,0)","v":32},"421222*********816","2023-4-3至2026-5-16","是","6个月以上","是","否"]
[12,null,"龙*怀",{"$f":"VLOOKUP(F:F,'[1]在职花名册汇总（以此表为准）'!$E:$AL,17,0)","v":"男"},{"$f":"VLOOKUP(F:F,'[1]在职花名册汇总（以此表为准）'!$E:$AL,25,0)","v":22},"430224*********533","2023-7-20至2026-7-19","是","6个月以上","是","否"]
[13,null,"王*",{"$f":"VLOOKUP(F:F,'[1]在职花名册汇总（以此表为准）'!$E:$AL,17,0)","v":"男"},{"$f":"VLOOKUP(F:F,'[1]在职花名册汇总（以此表为准）'!$E:$AL,25,0)","v":23},"511523*********279","2023-7-20至2026-7-19","是","6个月以上","是","否"]
[14,null,"吴*新",{"$f":"VLOOKUP(F:F,'[1]在职花名册汇总（以此表为准）'!$E:$AL,17,0)","v":"男"},{"$f":"VLOOKUP(F:F,'[1]在职花名册汇总（以此表为准）'!$E:$AL,25,0)","v":25},"421126*********713","2023-2-9至2026-2-8","是","6个月以上","是","否"]
[15,null,"蓝*钢",{"$f":"VLOOKUP(F:F,'[1]在职花名册汇总（以此表为准）'!$E:$AL,17,0)","v":"男"},{"$f":"VLOOKUP(F:F,'[1]在职花名册汇总（以此表为准）'!$E:$AL,25,0)","v":26},"360723*********314","2023-2-15至2026-2-14","是","6个月以上","是","否"]
[16,null,"谢*冰",{"$f":"VLOOKUP(F:F,'[1]在职花名册汇总（以此表为准）'!$E:$AL,17,0)","v":"男"},{"$f":"VLOOKUP(F:F,'[1]在职花名册汇总（以此表为准）'!$E:$AL,25,0)","v":22},"431126*********910","2023-3-16至2026-3-15","是","6个月以上","是","否"]
[17,null,"陈*赐",{"$f":"VLOOKUP(F:F,'[1]在职花名册汇总（以此表为准）'!$E:$AL,17,0)","v":"男"},{"$f":"VLOOKUP(F:F,'[1]在职花名册汇总（以此表为准）'!$E:$AL,25,0)","v":25},"411422*********516","2023-3-20至2026-3-19","是","6个月以上","是","否"]
[18,null,"刘*杰",{"$f":"VLOOKUP(F:F,'[1]在职花名册汇总（以此表为准）'!$E:$AL,17,0)","v":"男"},{"$f":"VLOOKUP(F:F,'[1]在职花名册汇总（以此表为准）'!$E:$AL,25,0)","v":28},"420302*********01X","2023-3-22至2026-3-21","是","6个月以上","是","否"]
[19,null,"许*贵",{"$f":"VLOOKUP(F:F,'[1]在职花名册汇总（以此表为准）'!$E:$AL,17,0)","v":"男"},{"$f":"VLOOKUP(F:F,'[1]在职花名册汇总（以此表为准）'!$E:$AL,25,0)","v":27},"420321*********118","2023-3-27至2026-3-26","是","6个月以上","是","否"]
[20,null,"王*",{"$f":"VLOOKUP(F:F,'[1]在职花名册汇总（以此表为准）'!$E:$AL,17,0)","v":"男"},{"$f":"VLOOKUP(F:F,'[1]在职花名册汇总（以此表为准）'!$E:$AL,25,0)","v":38},"612401*********078","2023-3-29至2026-3-28","是","6个月以上","是","否"]
[21,null,"李*均",{"$f":"VLOOKUP(F:F,'[1]在职花名册汇总（以此表为准）'!$E:$AL,17,0)","v":"男"},{"$f":"VLOOKUP(F:F,'[1]在职花名册汇总（以此表为准）'!$E:$AL,25,0)","v":23},"430529*********270","2023-4-25至2026-4-24","是","6个月以上","是","否"]
[22,null,"马*忠",{"$f":"VLOOKUP(F:F,'[1]在职花名册汇总（以此表为准）'!$E:$AL,17,0)","v":"男"},{"$f":"VLOOKUP(F:F,'[1]在职花名册汇总（以此表为准）'!$E:$AL,25,0)","v":38},"622623*********815","2023-6-2至2026-6-1","是","6个月以上","是","否"]
[23,"海信（广东）空调有限公司","阳*花","女",19,"430481*********427","2023-6-29至2025-6-30","是",12,"是","否","4人申请一次性吸纳补贴，20000元；4人申请社保补贴，18278.28元；共38278.28元。"]
[24,null,"秦*","女",20,"610524*********027","2023-7-10至2025-9-30","是",11,"是","否"]
[25,null,"田*","男",26,"430724*********517","2023-8-01-2028-7-31","是",10,"是","否"]
[26,null,"郭*旺","男",22,"431025*********83X","2023-9-13至2025-9-30","是",9,"是","否"]
[27,"广东海信通信有限公司","何*","男",25,"532624*********514","2023-3-20至2023-3-20","是",15,"是","否","6人申请一次性吸纳补贴，30000元；3人申请社保补贴，13099.2元；共43099.2元"]
[28,null,"皮*会","女",20,"532624*********141","2023-2-02至2023-2-02","是",16,"是","否"]
[29,null,"王*","女",24,"532301*********129","2023-11-01至2023-5-16","是",7,"是","否"]
[30,null,"李*武","男",23,"430528*********259","2023-11-24至2023-11-24","是",7,"是","否"]
[21,null,"彭*意","男",19,"430422*********159","2023-3-21至2023-3-21","是",15,"是","否"]
[32,null,"朱*丰","男",37,"340826*********618","2023-9-26至2023-9-26","是",9,"是","否"]
[33,"广东海信宽带科技有限公司","晏*晶","女",21,"430621*********028","2023-3-1至2026-2-28","是",15,"是","否","5人申请一次性吸纳补贴，25000元；4人申请社保补贴，17805.28元；共42805.28元。"]
[34,null,"杨*娜","女",23,"622827*********52X","2023-6-05至2026-6-04","是",12,"是","否"]
[35,null,"黎*谊","男",19,"460034*********914","2023-7-01至2026-6-30","是",11,"是","否"]
[36,null,"陈*娣","女",19,"421126*********128","2023-7-01至2026-6-30","是",11,"是","否"]
[37,null,"张*华","男",36,"610427*********036","2023-12-01至2026-11-30","是",6,"是","否"]
[38,"广东海信电子有限公司","董*泽","男",23,"142729*********717","2023-4-25至2025-6-30","是",14,"是","否","2人申请一次性吸纳补贴，10000元；1人申请社保补贴，4628.17元；共14628.17元。"]
[39,null,"张*行","男",18,"610523*********515","2023-11-08至2025-12-31","是",7,"是","否"]
[40,"海信（广东）模塑有限公司","张*松","男",18,"532624*********516","2023-9-01至2025-9-30","是",9,"是","否","1人申请一次性吸纳补贴，5000元；1人申请社保补贴，4468.52元；共9468.52元。"]

{"sheet":"Sheet2","index":1,"n_rows":0,"n_cols":0,"rows_kept":0}