{"text_format":"3","workbook":"xlsx","n_sheets":3,"sheets":["Sheet1","Sheet2","Sheet3"],"read":"whole","date_system":"1900"}

{"sheet":"Sheet1","index":0,"n_rows":30,"n_cols":9,"rows_kept":30}
["广东省江门市 蓬江县（市、区）离岗基层老兽医"]
["生活困难补助发放情况统计表（2023年度下半年）"]
["序号","姓名","核准工作年限（年）","核准月补助标准","2023年下半年应发月数(个）","2023年下半年应发金额(元）","所属镇街","备注"]
[1,"欧*焕景",35,"900元/月",6,{"$f":"900*6","v":5400},"环市街",null,{"$f":"REPLACE(#REF!,5,5,\"*****\")","v":{"$error":"#REF!"}}]
[2,"甘*维",10,"700元/月",6,{"$f":"700*6","v":4200},"环市街",null,{"$f":"REPLACE(#REF!,5,5,\"*****\")","v":{"$error":"#REF!"}}]
[3,"甘*合",35,"900元/月",6,{"$f":"900*6","v":5400},"环市街",null,{"$f":"REPLACE(#REF!,5,5,\"*****\")","v":{"$error":"#REF!"}}]
[4,"何*添",41,"900元/月",6,{"$f":"900*6","v":5400},"白沙街",null,{"$f":"REPLACE(#REF!,5,5,\"*****\")","v":{"$error":"#REF!"}}]
[5,"何*毅",30,"900元/月",6,5400,"白沙街",null,{"$f":"REPLACE(#REF!,5,5,\"*****\")","v":{"$error":"#REF!"}}]
[6,"郑*胺",20,"800元/月",6,{"$f":"800*6","v":4800},"白沙街",null,{"$f":"REPLACE(#REF!,5,5,\"*****\")","v":{"$error":"#REF!"}}]
[7,"卢*生",19,"700元/月",6,{"$f":"700*6","v":4200},"潮连街",null,{"$f":"REPLACE(#REF!,5,5,\"*****\")","v":{"$error":"#REF!"}}]
[8,"张*送",10,"700元/月",6,{"$f":"700*6","v":4200},"潮连街",null,{"$f":"REPLACE(#REF!,5,5,\"*****\")","v":{"$error":"#REF!"}}]
[9,"区*杨",11,"700元/月",6,4200,"潮连街",null,{"$f":"REPLACE(#REF!,5,5,\"*****\")","v":{"$error":"#REF!"}}]
[10,"谭*伦",24,"800元/月",6,{"$f":"800*6","v":4800},"棠下镇",null,{"$f":"REPLACE(#REF!,5,5,\"*****\")","v":{"$error":"#REF!"}}]
[11,"梁*田",4,"140元/月",6,{"$f":"140*6","v":840},"棠下镇",null,{"$f":"REPLACE(#REF!,5,5,\"*****\")","v":{"$error":"#REF!"}}]
[12,"黄*兰",9,"315元/月",6,{"$f":"315*6","v":1890},"杜阮镇",null,{"$f":"REPLACE(#REF!,5,5,\"*****\")","v":{"$error":"#REF!"}}]
[13,"林*坤",1,"35元/月",6,{"$f":"35*6","v":210},"杜阮镇",null,{"$f":"REPLACE(#REF!,5,5,\"*****\")","v":{"$error":"#REF!"}}]
[14,"黄*玲",2,"70元/月",6,{"$f":"70*6","v":420},"杜阮镇",null,{"$f":"REPLACE(#REF!,5,5,\"*****\")","v":{"$error":"#REF!"}}]
[15,"陈*威",13,"700元/月",6,{"$f":"700*6","v":4200},"荷塘镇",null,{"$f":"REPLACE(#REF!,5,5,\"*****\")","v":{"$error":"#REF!"}}]
[16,"黎*英",17,"700元/月",6,{"$f":"700*6","v":4200},"荷塘镇",null,{"$f":"REPLACE(#REF!,5,5,\"*****\")","v":{"$error":"#REF!"}}]
[17,"容*炬",24,"800元/月",6,{"$f":"800*6","v":4800},"荷塘镇",null,{"$f":"REPLACE(#REF!,5,5,\"*****\")","v":{"$error":"#REF!"}}]
[18,"郑*良(外）",11,"700元/月",6,{"$f":"700*6","v":4200},"环市街",null,{"$f":"REPLACE(#REF!,5,5,\"*****\")","v":{"$error":"#REF!"}}]
[19,"王*鸿(外）",15,"700元/月",6,{"$f":"700*6","v":4200},"杜阮镇",null,{"$f":"REPLACE(#REF!,5,5,\"*****\")","v":{"$error":"#REF!"}}]
[20,"颜*平(外)",13,"700元/月",6,{"$f":"700*6","v":4200},"白沙街",null,{"$f":"REPLACE(#REF!,5,5,\"*****\")","v":{"$error":"#REF!"}}]
[21,"林*健",24,"800元/月",6,{"$f":"800*6","v":4800},"环市街",null,{"$f":"REPLACE(#REF!,5,5,\"*****\")","v":{"$error":"#REF!"}}]
[22,"黄*林",15,"700元/月",6,{"$f":"700*6","v":4200},"环市街",null,{"$f":"REPLACE(#REF!,5,5,\"*****\")","v":{"$error":"#REF!"}}]
[23,"文*江",12,"700元/月",6,{"$f":"700*6","v":4200},"环市街",null,{"$f":"REPLACE(#REF!,5,5,\"*****\")","v":{"$error":"#REF!"}}]
[24,"胡*华",6,"210元/月",6,{"$f":"210*6","v":1260},"荷塘镇",null,{"$f":"REPLACE(#REF!,5,5,\"*****\")","v":{"$error":"#REF!"}}]
[25,"何*钦(外)",12,"700元/月",6,{"$f":"700*6","v":4200},"白沙街",null,{"$f":"REPLACE(#REF!,5,5,\"*****\")","v":{"$error":"#REF!"}}]
[26,"冯*清(外)",17,"700元/月",6,{"$f":"700*6","v":4200},"潮连街",null,{"$f":"REPLACE(#REF!,5,5,\"*****\")","v":{"$error":"#REF!"}}]
["合计",{"$nulls":3},"下半年",{"$f":"SUM(F4:F29)","v":100020}]

{"sheet":"Sheet2","index":1,"n_rows":0,"n_cols":0,"rows_kept":0}

{"sheet":"Sheet3","index":2,"n_rows":0,"n_cols":0,"rows_kept":0}